BEGIN:VCALENDAR
VERSION:2.0
PRODID:-//Anthroposophical Society in Canada - ECPv6.15.20//NONSGML v1.0//EN
CALSCALE:GREGORIAN
METHOD:PUBLISH
X-WR-CALNAME:Anthroposophical Society in Canada
X-ORIGINAL-URL:https://anthroposophy.ca/en/
X-WR-CALDESC:Events for Anthroposophical Society in Canada
REFRESH-INTERVAL;VALUE=DURATION:PT1H
X-Robots-Tag:noindex
X-PUBLISHED-TTL:PT1H
BEGIN:VTIMEZONE
TZID:America/Vancouver
BEGIN:DAYLIGHT
TZOFFSETFROM:-0800
TZOFFSETTO:-0700
TZNAME:PDT
DTSTART:20240310T100000
END:DAYLIGHT
BEGIN:STANDARD
TZOFFSETFROM:-0700
TZOFFSETTO:-0800
TZNAME:PST
DTSTART:20241103T090000
END:STANDARD
BEGIN:DAYLIGHT
TZOFFSETFROM:-0800
TZOFFSETTO:-0700
TZNAME:PDT
DTSTART:20250309T100000
END:DAYLIGHT
BEGIN:STANDARD
TZOFFSETFROM:-0700
TZOFFSETTO:-0800
TZNAME:PST
DTSTART:20251102T090000
END:STANDARD
BEGIN:DAYLIGHT
TZOFFSETFROM:-0800
TZOFFSETTO:-0700
TZNAME:PDT
DTSTART:20260308T100000
END:DAYLIGHT
BEGIN:STANDARD
TZOFFSETFROM:-0700
TZOFFSETTO:-0800
TZNAME:PST
DTSTART:20261101T090000
END:STANDARD
END:VTIMEZONE
BEGIN:VTIMEZONE
TZID:America/Toronto
BEGIN:DAYLIGHT
TZOFFSETFROM:-0500
TZOFFSETTO:-0400
TZNAME:EDT
DTSTART:20230312T070000
END:DAYLIGHT
BEGIN:STANDARD
TZOFFSETFROM:-0400
TZOFFSETTO:-0500
TZNAME:EST
DTSTART:20231105T060000
END:STANDARD
BEGIN:DAYLIGHT
TZOFFSETFROM:-0500
TZOFFSETTO:-0400
TZNAME:EDT
DTSTART:20240310T070000
END:DAYLIGHT
BEGIN:STANDARD
TZOFFSETFROM:-0400
TZOFFSETTO:-0500
TZNAME:EST
DTSTART:20241103T060000
END:STANDARD
BEGIN:DAYLIGHT
TZOFFSETFROM:-0500
TZOFFSETTO:-0400
TZNAME:EDT
DTSTART:20250309T070000
END:DAYLIGHT
BEGIN:STANDARD
TZOFFSETFROM:-0400
TZOFFSETTO:-0500
TZNAME:EST
DTSTART:20251102T060000
END:STANDARD
BEGIN:DAYLIGHT
TZOFFSETFROM:-0500
TZOFFSETTO:-0400
TZNAME:EDT
DTSTART:20260308T070000
END:DAYLIGHT
BEGIN:STANDARD
TZOFFSETFROM:-0400
TZOFFSETTO:-0500
TZNAME:EST
DTSTART:20261101T060000
END:STANDARD
END:VTIMEZONE
BEGIN:VEVENT
DTSTART;VALUE=DATE:20250628
DTEND;VALUE=DATE:20250719
DTSTAMP:20260419T121629
CREATED:20241209T234814Z
LAST-MODIFIED:20250513T185135Z
UID:13188-1751068800-1752883199@anthroposophy.ca
SUMMARY:Waldorf Early Childhood Educator Training
DESCRIPTION:Application deadline extended to June 15th!\nTwo years part-time\nNew cohort begins this summer \non Vancouver Island\, British Columbia \nThis is a part-time program of five weeks per year over two years comprised of three weeks in July and a week in November and February each successive year. \nSummer sessions are held in Duncan\, Vancouver Island; fall and spring sessions are held in North Vancouver\, BC. \nFor further information and to apply\, please visit our website; if you have questions please contact Ruth Ker ece@westcoastinstitute.org\, or Debbie Laurin debbielaurin@westcoastinstitute.org. \nPlease see our website for details about requirements to teach in BC.
URL:https://anthroposophy.ca/en/event/waldorf-early-childhood-educator-training/
LOCATION:Sunrise Waldorf School\, 2148 Lakeside Road\, Duncan\, BC\, V9L 6M3\, Canada
CATEGORIES:Central Canada,Eastern Canada,National,North America,Vancouver,Western Canada
ATTACH;FMTTYPE=image/jpeg:https://anthroposophy.ca/wp-content/uploads/2024/12/WCI_ECE_Program_2023_Web.jpg
ORGANIZER;CN="West Coast Institute for Studies in Anthroposophy":MAILTO:info@westcoastinstitute.org
END:VEVENT
BEGIN:VEVENT
DTSTART;VALUE=DATE:20250628
DTEND;VALUE=DATE:20250719
DTSTAMP:20260419T121629
CREATED:20241209T232931Z
LAST-MODIFIED:20250513T185240Z
UID:13175-1751068800-1752883199@anthroposophy.ca
SUMMARY:Waldorf Birth to Three Educator Training
DESCRIPTION:Application deadline extended to June 15th!\nFourteen month option to the part-time Early Childhood Educator Program\nNew cohort begins this summer \non Vancouver Island\, British Columbia \nThis is a 14 month\, birth to three focused option of the part-time Early Childhood Program. It runs for eight weeks over 14 months\, comprised of three weeks in two summers (July) and a week in November and February of the first year. \nSummer sessions are held in Duncan\, Vancouver Island; fall and spring sessions are held in North Vancouver\, BC. \nFor further information and to apply\, please visit our website; if you have questions please contact Ruth Ker ece@westcoastinstitute.org\, or Debbie Laurin debbielaurin@westcoastinstitute.org. \nPlease see our website for details about requirements to teach in BC.
URL:https://anthroposophy.ca/en/event/waldorf-birth-to-three-educator-training/
LOCATION:Sunrise Waldorf School\, 2148 Lakeside Road\, Duncan\, BC\, V9L 6M3\, Canada
CATEGORIES:National,North America,Vancouver,Western Canada
ATTACH;FMTTYPE=image/jpeg:https://anthroposophy.ca/wp-content/uploads/2024/12/WCI_Birth_to_Three_Training_2023_Web.jpg
ORGANIZER;CN="West Coast Institute for Studies in Anthroposophy":MAILTO:info@westcoastinstitute.org
END:VEVENT
BEGIN:VEVENT
DTSTART;TZID=America/Toronto:20240707T100000
DTEND;TZID=America/Toronto:20240713T170000
DTSTAMP:20260419T121629
CREATED:20240529T233847Z
LAST-MODIFIED:20240529T233953Z
UID:12578-1720346400-1720890000@anthroposophy.ca
SUMMARY:Water Conference July 7-13
DESCRIPTION:
URL:https://anthroposophy.ca/en/event/water-conference/
LOCATION:BC
CATEGORIES:National
ATTACH;FMTTYPE=image/jpeg:https://anthroposophy.ca/wp-content/uploads/2024/05/water-image.jpg
END:VEVENT
BEGIN:VEVENT
DTSTART;TZID=America/Toronto:20240622T120000
DTEND;TZID=America/Toronto:20240622T143000
DTSTAMP:20260419T121629
CREATED:20240529T230326Z
LAST-MODIFIED:20240529T230745Z
UID:12573-1719057600-1719066600@anthroposophy.ca
SUMMARY:The Word that is Working in the World and in Each of Us
DESCRIPTION:Christine Gruwez_22 Jun 2024_Intl (1)
URL:https://anthroposophy.ca/en/event/the-word-that-is-working-in-the-world-and-in-each-of-us/
LOCATION:BC
CATEGORIES:National
ATTACH;FMTTYPE=image/png:https://anthroposophy.ca/wp-content/uploads/2022/10/Christine-Gruwez-pic.png
END:VEVENT
BEGIN:VEVENT
DTSTART;TZID=America/Toronto:20240517T080000
DTEND;TZID=America/Toronto:20240519T170000
DTSTAMP:20260419T121629
CREATED:20240403T183046Z
LAST-MODIFIED:20240403T183046Z
UID:12312-1715932800-1716138000@anthroposophy.ca
SUMMARY:AGM 2024\, Duncan BC May 17\, 18\, 19th
DESCRIPTION:
URL:https://anthroposophy.ca/en/event/agm-2024-duncan-bc-may-17-18-19th/
LOCATION:BC
CATEGORIES:National
END:VEVENT
END:VCALENDAR