BEGIN:VCALENDAR
VERSION:2.0
PRODID:-//La société anthroposophique au Canada - ECPv6.15.20//NONSGML v1.0//EN
CALSCALE:GREGORIAN
METHOD:PUBLISH
X-ORIGINAL-URL:https://anthroposophy.ca/fr/
X-WR-CALDESC:Évènements pour La société anthroposophique au Canada
REFRESH-INTERVAL;VALUE=DURATION:PT1H
X-Robots-Tag:noindex
X-PUBLISHED-TTL:PT1H
BEGIN:VTIMEZONE
TZID:America/Toronto
BEGIN:DAYLIGHT
TZOFFSETFROM:-0500
TZOFFSETTO:-0400
TZNAME:EDT
DTSTART:20230312T070000
END:DAYLIGHT
BEGIN:STANDARD
TZOFFSETFROM:-0400
TZOFFSETTO:-0500
TZNAME:EST
DTSTART:20231105T060000
END:STANDARD
BEGIN:DAYLIGHT
TZOFFSETFROM:-0500
TZOFFSETTO:-0400
TZNAME:EDT
DTSTART:20240310T070000
END:DAYLIGHT
BEGIN:STANDARD
TZOFFSETFROM:-0400
TZOFFSETTO:-0500
TZNAME:EST
DTSTART:20241103T060000
END:STANDARD
BEGIN:DAYLIGHT
TZOFFSETFROM:-0500
TZOFFSETTO:-0400
TZNAME:EDT
DTSTART:20250309T070000
END:DAYLIGHT
BEGIN:STANDARD
TZOFFSETFROM:-0400
TZOFFSETTO:-0500
TZNAME:EST
DTSTART:20251102T060000
END:STANDARD
END:VTIMEZONE
BEGIN:VEVENT
DTSTART;TZID=America/Toronto:20240804T080000
DTEND;TZID=America/Toronto:20240809T170000
DTSTAMP:20260425T152813
CREATED:20240620T232815Z
LAST-MODIFIED:20240620T232815Z
UID:12779-1722758400-1723222800@anthroposophy.ca
SUMMARY:Art Workshop with Regine Kureck - Duncan BC
DESCRIPTION:New Art Workshop Program A4 Flyer (11 x 17 in) (5)
URL:https://anthroposophy.ca/fr/event/art-workshop-with-regine-kureck-duncan-bc/
CATEGORIES:Vancouver,Ouest du Canada
END:VEVENT
END:VCALENDAR