BEGIN:VCALENDAR
VERSION:2.0
PRODID:-//La société anthroposophique au Canada - ECPv6.15.20//NONSGML v1.0//EN
CALSCALE:GREGORIAN
METHOD:PUBLISH
X-WR-CALNAME:La société anthroposophique au Canada
X-ORIGINAL-URL:https://anthroposophy.ca/fr/
X-WR-CALDESC:Évènements pour La société anthroposophique au Canada
REFRESH-INTERVAL;VALUE=DURATION:PT1H
X-Robots-Tag:noindex
X-PUBLISHED-TTL:PT1H
BEGIN:VTIMEZONE
TZID:America/Toronto
BEGIN:DAYLIGHT
TZOFFSETFROM:-0500
TZOFFSETTO:-0400
TZNAME:EDT
DTSTART:20230312T070000
END:DAYLIGHT
BEGIN:STANDARD
TZOFFSETFROM:-0400
TZOFFSETTO:-0500
TZNAME:EST
DTSTART:20231105T060000
END:STANDARD
BEGIN:DAYLIGHT
TZOFFSETFROM:-0500
TZOFFSETTO:-0400
TZNAME:EDT
DTSTART:20240310T070000
END:DAYLIGHT
BEGIN:STANDARD
TZOFFSETFROM:-0400
TZOFFSETTO:-0500
TZNAME:EST
DTSTART:20241103T060000
END:STANDARD
BEGIN:DAYLIGHT
TZOFFSETFROM:-0500
TZOFFSETTO:-0400
TZNAME:EDT
DTSTART:20250309T070000
END:DAYLIGHT
BEGIN:STANDARD
TZOFFSETFROM:-0400
TZOFFSETTO:-0500
TZNAME:EST
DTSTART:20251102T060000
END:STANDARD
BEGIN:DAYLIGHT
TZOFFSETFROM:-0500
TZOFFSETTO:-0400
TZNAME:EDT
DTSTART:20260308T070000
END:DAYLIGHT
BEGIN:STANDARD
TZOFFSETFROM:-0400
TZOFFSETTO:-0500
TZNAME:EST
DTSTART:20261101T060000
END:STANDARD
END:VTIMEZONE
BEGIN:VEVENT
DTSTART;TZID=America/Toronto:20240901T080000
DTEND;TZID=America/Toronto:20250531T170000
DTSTAMP:20260425T140343
CREATED:20240709T181517Z
LAST-MODIFIED:20240709T181517Z
UID:12785-1725177600-1748710800@anthroposophy.ca
SUMMARY:Becoming Free - Foundation Course
DESCRIPTION:
URL:https://anthroposophy.ca/fr/event/becoming-free-foundation-course/
END:VEVENT
BEGIN:VEVENT
DTSTART;TZID=America/Toronto:20240901T080000
DTEND;TZID=America/Toronto:20250630T170000
DTSTAMP:20260425T140343
CREATED:20240709T182129Z
LAST-MODIFIED:20240709T182129Z
UID:12790-1725177600-1751302800@anthroposophy.ca
SUMMARY:Beginning Anthroposophy Course
DESCRIPTION:
URL:https://anthroposophy.ca/fr/event/beginning-anthroposophy-course/
END:VEVENT
BEGIN:VEVENT
DTSTART;TZID=America/Toronto:20240913T080000
DTEND;TZID=America/Toronto:20240915T170000
DTSTAMP:20260425T140343
CREATED:20240606T220307Z
LAST-MODIFIED:20240606T220339Z
UID:12607-1726214400-1726419600@anthroposophy.ca
SUMMARY:Genius of Language Conference Fall 2024 Toronto
DESCRIPTION:
URL:https://anthroposophy.ca/fr/event/genius-of-language-conference-fall-2024-toronto/
ATTACH;FMTTYPE=image/png:https://anthroposophy.ca/wp-content/uploads/2024/06/langugae-conference.png
END:VEVENT
BEGIN:VEVENT
DTSTART;TZID=America/Toronto:20240930T080000
DTEND;TZID=America/Toronto:20240930T170000
DTSTAMP:20260425T140343
CREATED:20240930T181639Z
LAST-MODIFIED:20240930T190425Z
UID:12835-1727683200-1727715600@anthroposophy.ca
SUMMARY:Karl König Event Toronto
DESCRIPTION:Calendar of the Soul and Karl König’s Drawings\nwith lectures by Richard Steel \n« An Inner Journey Through the Year » \nA combined initiative of the Anthroposophical Society in \nCanada\, the Polaris Branch and the Association of \nBiography Workers in Canada \nNovember 1 – 3\, 2024\nAddress: 1 Hesperus Road\, Thornhill\, ON L4J 0G9\nProgram and Registration Click Here \nThe conference will include music\, lectures\, eurythmy\, painting and creative writing\, accompanying the exhibition of the 52 color drawings by Karl König. \nContact Jef Saunders with any questions: \nTEL: 647-870-6003 \nemail: polarisbranch@icloud.com \n  \nScreenshot
URL:https://anthroposophy.ca/fr/event/karl-keoning-event-toronto/
ATTACH;FMTTYPE=image/jpeg:https://anthroposophy.ca/wp-content/uploads/2024/09/koeing-poster-nov-2024.jpeg
END:VEVENT
END:VCALENDAR