BEGIN:VCALENDAR
VERSION:2.0
PRODID:-//La société anthroposophique au Canada - ECPv6.15.20//NONSGML v1.0//EN
CALSCALE:GREGORIAN
METHOD:PUBLISH
X-WR-CALNAME:La société anthroposophique au Canada
X-ORIGINAL-URL:https://anthroposophy.ca/fr/
X-WR-CALDESC:Évènements pour La société anthroposophique au Canada
REFRESH-INTERVAL;VALUE=DURATION:PT1H
X-Robots-Tag:noindex
X-PUBLISHED-TTL:PT1H
BEGIN:VTIMEZONE
TZID:America/Toronto
BEGIN:DAYLIGHT
TZOFFSETFROM:-0500
TZOFFSETTO:-0400
TZNAME:EDT
DTSTART:20240310T070000
END:DAYLIGHT
BEGIN:STANDARD
TZOFFSETFROM:-0400
TZOFFSETTO:-0500
TZNAME:EST
DTSTART:20241103T060000
END:STANDARD
BEGIN:DAYLIGHT
TZOFFSETFROM:-0500
TZOFFSETTO:-0400
TZNAME:EDT
DTSTART:20250309T070000
END:DAYLIGHT
BEGIN:STANDARD
TZOFFSETFROM:-0400
TZOFFSETTO:-0500
TZNAME:EST
DTSTART:20251102T060000
END:STANDARD
BEGIN:DAYLIGHT
TZOFFSETFROM:-0500
TZOFFSETTO:-0400
TZNAME:EDT
DTSTART:20260308T070000
END:DAYLIGHT
BEGIN:STANDARD
TZOFFSETFROM:-0400
TZOFFSETTO:-0500
TZNAME:EST
DTSTART:20261101T060000
END:STANDARD
END:VTIMEZONE
BEGIN:VEVENT
DTSTART;TZID=America/Toronto:20250924T080000
DTEND;TZID=America/Toronto:20251029T170000
DTSTAMP:20260422T185851
CREATED:20250930T170420Z
LAST-MODIFIED:20250930T170539Z
UID:14468-1758700800-1761757200@anthroposophy.ca
SUMMARY:Introduction to Anthroposophy - Toronto Branch Series of Presentations
DESCRIPTION:
URL:https://anthroposophy.ca/fr/event/introduction-to-anthroposophy-toronto-branch-event/
END:VEVENT
BEGIN:VEVENT
DTSTART;TZID=America/Toronto:20251010T080000
DTEND;TZID=America/Toronto:20251012T170000
DTSTAMP:20260422T185851
CREATED:20250901T170053Z
LAST-MODIFIED:20250901T171015Z
UID:13846-1760083200-1760288400@anthroposophy.ca
SUMMARY:ASA Annual Conference 2025 Detroit
DESCRIPTION:
URL:https://anthroposophy.ca/fr/event/asa-annual-conference-2025-detroit/
ATTACH;FMTTYPE=image/png:https://anthroposophy.ca/wp-content/uploads/2025/09/asa-con-2025.png
END:VEVENT
BEGIN:VEVENT
DTSTART;TZID=America/Toronto:20251012T080000
DTEND;TZID=America/Toronto:20251014T170000
DTSTAMP:20260422T185851
CREATED:20250813T193825Z
LAST-MODIFIED:20250813T193825Z
UID:13746-1760256000-1760461200@anthroposophy.ca
SUMMARY:Youth Conference - Detroit
DESCRIPTION:
URL:https://anthroposophy.ca/fr/event/youth-conference-detroit/
ATTACH;FMTTYPE=image/png:https://anthroposophy.ca/wp-content/uploads/2025/07/Beyond-Woke-1-1.png
END:VEVENT
BEGIN:VEVENT
DTSTART;TZID=America/Toronto:20251018T080000
DTEND;TZID=America/Toronto:20251213T170000
DTSTAMP:20260422T185851
CREATED:20251002T194917Z
LAST-MODIFIED:20251002T195024Z
UID:14512-1760774400-1765645200@anthroposophy.ca
SUMMARY:RSCC Saturday presentations
DESCRIPTION:
URL:https://anthroposophy.ca/fr/event/rscc-saturday-presentations/
END:VEVENT
BEGIN:VEVENT
DTSTART;TZID=America/Toronto:20251026T000000
DTEND;TZID=America/Toronto:20251123T000000
DTSTAMP:20260422T185851
CREATED:20250827T155452Z
LAST-MODIFIED:20250827T155452Z
UID:13830-1761436800-1763856000@anthroposophy.ca
SUMMARY:Imagining a Threefold Society ::: Webinar Series
DESCRIPTION:Imagining a Threefold Society\n::: Webinar Series :::\nExploring the Basic Idea of Social Threefolding\nwith T. Michael Cox and Christopher Hahn \nSundays – October 26 through November 23 \n  \nThis free webinar series will consist of five weekly one-hour zoom sessions\, in which we will explore and attempt to imagine\, as concretely as possible\, what a future threefold society might be like. \nNo prior knowledge is required – only your interest! \nMore information HERE
URL:https://anthroposophy.ca/fr/event/imagining-a-threefold-society-webinar-series/
END:VEVENT
BEGIN:VEVENT
DTSTART;TZID=America/Toronto:20251026T160000
DTEND;TZID=America/Toronto:20251026T173000
DTSTAMP:20260422T185851
CREATED:20251016T184447Z
LAST-MODIFIED:20251016T184447Z
UID:15099-1761494400-1761499800@anthroposophy.ca
SUMMARY:Anthroposophy Canada Wide Members gathering Oct 26
DESCRIPTION:
URL:https://anthroposophy.ca/fr/event/anthroposophy-canada-wide-members-gathering-oct-26/
END:VEVENT
END:VCALENDAR