BEGIN:VCALENDAR
VERSION:2.0
PRODID:-//La société anthroposophique au Canada - ECPv6.15.20//NONSGML v1.0//EN
CALSCALE:GREGORIAN
METHOD:PUBLISH
X-ORIGINAL-URL:https://anthroposophy.ca/fr/
X-WR-CALDESC:Évènements pour La société anthroposophique au Canada
REFRESH-INTERVAL;VALUE=DURATION:PT1H
X-Robots-Tag:noindex
X-PUBLISHED-TTL:PT1H
BEGIN:VTIMEZONE
TZID:America/Toronto
BEGIN:DAYLIGHT
TZOFFSETFROM:-0500
TZOFFSETTO:-0400
TZNAME:EDT
DTSTART:20250309T070000
END:DAYLIGHT
BEGIN:STANDARD
TZOFFSETFROM:-0400
TZOFFSETTO:-0500
TZNAME:EST
DTSTART:20251102T060000
END:STANDARD
BEGIN:DAYLIGHT
TZOFFSETFROM:-0500
TZOFFSETTO:-0400
TZNAME:EDT
DTSTART:20260308T070000
END:DAYLIGHT
BEGIN:STANDARD
TZOFFSETFROM:-0400
TZOFFSETTO:-0500
TZNAME:EST
DTSTART:20261101T060000
END:STANDARD
BEGIN:DAYLIGHT
TZOFFSETFROM:-0500
TZOFFSETTO:-0400
TZNAME:EDT
DTSTART:20270314T070000
END:DAYLIGHT
BEGIN:STANDARD
TZOFFSETFROM:-0400
TZOFFSETTO:-0500
TZNAME:EST
DTSTART:20271107T060000
END:STANDARD
END:VTIMEZONE
BEGIN:VEVENT
DTSTART;TZID=America/Toronto:20260208T070000
DTEND;TZID=America/Toronto:20260208T110000
DTSTAMP:20260422T140255
CREATED:20260130T173126Z
LAST-MODIFIED:20260130T173439Z
UID:15627-1770534000-1770548400@anthroposophy.ca
SUMMARY:Candlemas Gathering in Nova Scotia
DESCRIPTION:  \n \nSunday\, February 8th\, 2026\n11:00 am start\, Potluck @ 12:30pm \n220 Blockhouse Mines Road\nBlockhouse\, Nova Scotia \nDear friends and community members\, \n\nWe invite you to join us for a Devotional Gathering as part of the initiative towards building the Christian Community\, Movement for Religious Renewal here in Nova Scotia. \nTogether we will join hearts and hands for our monthly Devotional Gathering here on the South Shore. We will sing\, read from the Gospel\, and contemplate the time of the midpoint of Winter\, also known as Candlemas. We will gather in a quiet and reverent space\, open to all. \nOur gathering will be followed by a shared potluck lunch\, at which time children and families may join. \nAll are welcome. Please RSVP. \n\nPrior to the adult Devotional Gathering\, Kaitlin Brown will be offering our monthly Sunday School Gathering for school age children. Starting at 10am in her home. Please contact Katilin for further details. lovesproutsnow@gmail.com \nIf you are curious to learn more about the Christian Community for Religious Renewal or would like more information about the gatherings or future plans\, please get in touch with us\, or visit thechristiancommunity.org \nHeartfelt blessings\,\nTara Arnst & Gabriele Freydank-Edelstein \nContact:\nTara – tara.arnst@gmail.com\nGabriele – gabriele@zing-net.ca
URL:https://anthroposophy.ca/fr/event/candlemas-gathering-in-nova-scotia/
END:VEVENT
BEGIN:VEVENT
DTSTART;TZID=America/Toronto:20260222T140000
DTEND;TZID=America/Toronto:20260222T170000
DTSTAMP:20260422T140255
CREATED:20260217T160421Z
LAST-MODIFIED:20260217T160421Z
UID:15639-1771768800-1771779600@anthroposophy.ca
SUMMARY:Eurythmy Talk in Calgary Feb. 22 4pm-5:30
DESCRIPTION:Public Talk- Eurythmy Therapy Feb 22 2026
URL:https://anthroposophy.ca/fr/event/eurythmy-talk-in-calgary-feb-22-4pm-530/
END:VEVENT
BEGIN:VEVENT
DTSTART;TZID=America/Toronto:20260227T193000
DTEND;TZID=America/Toronto:20260302T170000
DTSTAMP:20260422T140255
CREATED:20260223T182335Z
LAST-MODIFIED:20260223T182335Z
UID:15673-1772220600-1772470800@anthroposophy.ca
SUMMARY:The Importance of the Arts in Waldorf Education
DESCRIPTION:
URL:https://anthroposophy.ca/fr/event/the-importance-of-the-arts-in-waldorf-education/
END:VEVENT
END:VCALENDAR